BEGIN:VCALENDAR
VERSION:2.0
PRODID:-//Malforum München - ECPv6.15.17.1//NONSGML v1.0//EN
CALSCALE:GREGORIAN
METHOD:PUBLISH
X-ORIGINAL-URL:https://www.malforum-muenchen.de
X-WR-CALDESC:Veranstaltungen für Malforum München
REFRESH-INTERVAL;VALUE=DURATION:PT1H
X-Robots-Tag:noindex
X-PUBLISHED-TTL:PT1H
BEGIN:VTIMEZONE
TZID:Europe/Berlin
BEGIN:DAYLIGHT
TZOFFSETFROM:+0100
TZOFFSETTO:+0200
TZNAME:CEST
DTSTART:20240331T010000
END:DAYLIGHT
BEGIN:STANDARD
TZOFFSETFROM:+0200
TZOFFSETTO:+0100
TZNAME:CET
DTSTART:20241027T010000
END:STANDARD
BEGIN:DAYLIGHT
TZOFFSETFROM:+0100
TZOFFSETTO:+0200
TZNAME:CEST
DTSTART:20250330T010000
END:DAYLIGHT
BEGIN:STANDARD
TZOFFSETFROM:+0200
TZOFFSETTO:+0100
TZNAME:CET
DTSTART:20251026T010000
END:STANDARD
BEGIN:DAYLIGHT
TZOFFSETFROM:+0100
TZOFFSETTO:+0200
TZNAME:CEST
DTSTART:20260329T010000
END:DAYLIGHT
BEGIN:STANDARD
TZOFFSETFROM:+0200
TZOFFSETTO:+0100
TZNAME:CET
DTSTART:20261025T010000
END:STANDARD
BEGIN:DAYLIGHT
TZOFFSETFROM:+0100
TZOFFSETTO:+0200
TZNAME:CEST
DTSTART:20270328T010000
END:DAYLIGHT
BEGIN:STANDARD
TZOFFSETFROM:+0200
TZOFFSETTO:+0100
TZNAME:CET
DTSTART:20271031T010000
END:STANDARD
END:VTIMEZONE
BEGIN:VEVENT
DTSTART;TZID=Europe/Berlin:20260418T090000
DTEND;TZID=Europe/Berlin:20260418T143000
DTSTAMP:20260422T085343
CREATED:20251125T133834Z
LAST-MODIFIED:20251125T133834Z
UID:14973-1776502800-1776522600@www.malforum-muenchen.de
SUMMARY:Landschaft
DESCRIPTION:
URL:https://www.malforum-muenchen.de/kurstermin/landschaft-4/
LOCATION:Malforum München\, Lindwurmstraße 68\, München\, Bayern\, 80337\, Deutschland
CATEGORIES:Malkurse
END:VEVENT
BEGIN:VEVENT
DTSTART;TZID=Europe/Berlin:20260411T090000
DTEND;TZID=Europe/Berlin:20260411T143000
DTSTAMP:20260422T085343
CREATED:20251125T133812Z
LAST-MODIFIED:20251125T133812Z
UID:14970-1775898000-1775917800@www.malforum-muenchen.de
SUMMARY:Landschaft
DESCRIPTION:
URL:https://www.malforum-muenchen.de/kurstermin/landschaft-3/
LOCATION:Malforum München\, Lindwurmstraße 68\, München\, Bayern\, 80337\, Deutschland
CATEGORIES:Malkurse
END:VEVENT
BEGIN:VEVENT
DTSTART;TZID=Europe/Berlin:20260328T090000
DTEND;TZID=Europe/Berlin:20260328T143000
DTSTAMP:20260422T085343
CREATED:20251125T133742Z
LAST-MODIFIED:20251125T133742Z
UID:14967-1774688400-1774708200@www.malforum-muenchen.de
SUMMARY:Waldsee
DESCRIPTION:
URL:https://www.malforum-muenchen.de/kurstermin/waldsee/
LOCATION:Malforum München\, Lindwurmstraße 68\, München\, Bayern\, 80337\, Deutschland
CATEGORIES:Malkurse
END:VEVENT
BEGIN:VEVENT
DTSTART;TZID=Europe/Berlin:20260321T090000
DTEND;TZID=Europe/Berlin:20260321T143000
DTSTAMP:20260422T085343
CREATED:20251125T133721Z
LAST-MODIFIED:20251125T133721Z
UID:14964-1774083600-1774103400@www.malforum-muenchen.de
SUMMARY:Landschaft
DESCRIPTION:
URL:https://www.malforum-muenchen.de/kurstermin/landschaft-2/
LOCATION:Malforum München\, Lindwurmstraße 68\, München\, Bayern\, 80337\, Deutschland
CATEGORIES:Malkurse
END:VEVENT
BEGIN:VEVENT
DTSTART;TZID=Europe/Berlin:20260228T090000
DTEND;TZID=Europe/Berlin:20260228T143000
DTSTAMP:20260422T085343
CREATED:20251125T133640Z
LAST-MODIFIED:20251125T133640Z
UID:14961-1772269200-1772289000@www.malforum-muenchen.de
SUMMARY:Meeresmotiv
DESCRIPTION:
URL:https://www.malforum-muenchen.de/kurstermin/meeresmotiv/
LOCATION:Malforum München\, Lindwurmstraße 68\, München\, Bayern\, 80337\, Deutschland
CATEGORIES:Malkurse
END:VEVENT
BEGIN:VEVENT
DTSTART;TZID=Europe/Berlin:20260221T090000
DTEND;TZID=Europe/Berlin:20260221T143000
DTSTAMP:20260422T085343
CREATED:20251125T133614Z
LAST-MODIFIED:20251125T133614Z
UID:14958-1771664400-1771684200@www.malforum-muenchen.de
SUMMARY:Landschaft
DESCRIPTION:
URL:https://www.malforum-muenchen.de/kurstermin/landschaft/
LOCATION:Malforum München\, Lindwurmstraße 68\, München\, Bayern\, 80337\, Deutschland
CATEGORIES:Malkurse
END:VEVENT
BEGIN:VEVENT
DTSTART;TZID=Europe/Berlin:20260117T090000
DTEND;TZID=Europe/Berlin:20260117T143000
DTSTAMP:20260422T085343
CREATED:20251125T133509Z
LAST-MODIFIED:20251125T133509Z
UID:14955-1768640400-1768660200@www.malforum-muenchen.de
SUMMARY:Wintermotiv
DESCRIPTION:
URL:https://www.malforum-muenchen.de/kurstermin/wintermotiv-6/
LOCATION:Malforum München\, Lindwurmstraße 68\, München\, Bayern\, 80337\, Deutschland
CATEGORIES:Malkurse
END:VEVENT
BEGIN:VEVENT
DTSTART;TZID=Europe/Berlin:20260110T090000
DTEND;TZID=Europe/Berlin:20260110T143000
DTSTAMP:20260422T085343
CREATED:20251125T133432Z
LAST-MODIFIED:20251125T133432Z
UID:14952-1768035600-1768055400@www.malforum-muenchen.de
SUMMARY:Wintermotiv
DESCRIPTION:
URL:https://www.malforum-muenchen.de/kurstermin/wintermotiv-5/
LOCATION:Malforum München\, Lindwurmstraße 68\, München\, Bayern\, 80337\, Deutschland
CATEGORIES:Malkurse
END:VEVENT
BEGIN:VEVENT
DTSTART;TZID=Europe/Berlin:20251213T090000
DTEND;TZID=Europe/Berlin:20251213T143000
DTSTAMP:20260422T085343
CREATED:20241014T142531Z
LAST-MODIFIED:20241014T142531Z
UID:14931-1765616400-1765636200@www.malforum-muenchen.de
SUMMARY:Wintermotiv
DESCRIPTION:
URL:https://www.malforum-muenchen.de/kurstermin/wintermotiv-4/
LOCATION:Malforum München\, Lindwurmstraße 68\, München\, Bayern\, 80337\, Deutschland
CATEGORIES:Malkurse
END:VEVENT
BEGIN:VEVENT
DTSTART;TZID=Europe/Berlin:20251122T090000
DTEND;TZID=Europe/Berlin:20251122T143000
DTSTAMP:20260422T085343
CREATED:20241014T142514Z
LAST-MODIFIED:20241014T142514Z
UID:14930-1763802000-1763821800@www.malforum-muenchen.de
SUMMARY:Wintermotiv
DESCRIPTION:
URL:https://www.malforum-muenchen.de/kurstermin/wintermotiv-3/
LOCATION:Malforum München\, Lindwurmstraße 68\, München\, Bayern\, 80337\, Deutschland
CATEGORIES:Malkurse
END:VEVENT
BEGIN:VEVENT
DTSTART;TZID=Europe/Berlin:20251115T090000
DTEND;TZID=Europe/Berlin:20251115T143000
DTSTAMP:20260422T085343
CREATED:20241014T142440Z
LAST-MODIFIED:20241014T142440Z
UID:14929-1763197200-1763217000@www.malforum-muenchen.de
SUMMARY:Wasserfall
DESCRIPTION:
URL:https://www.malforum-muenchen.de/kurstermin/wasserfall/
LOCATION:Malforum München\, Lindwurmstraße 68\, München\, Bayern\, 80337\, Deutschland
CATEGORIES:Malkurse
END:VEVENT
BEGIN:VEVENT
DTSTART;TZID=Europe/Berlin:20251025T090000
DTEND;TZID=Europe/Berlin:20251025T143000
DTSTAMP:20260422T085343
CREATED:20241014T142337Z
LAST-MODIFIED:20241014T142337Z
UID:14920-1761382800-1761402600@www.malforum-muenchen.de
SUMMARY:Landschaft
DESCRIPTION:
URL:https://www.malforum-muenchen.de/kurstermin/landschaft-28/
LOCATION:Malforum München\, Lindwurmstraße 68\, München\, Bayern\, 80337\, Deutschland
CATEGORIES:Malkurse
END:VEVENT
BEGIN:VEVENT
DTSTART;TZID=Europe/Berlin:20251018T090000
DTEND;TZID=Europe/Berlin:20251018T143000
DTSTAMP:20260422T085343
CREATED:20241014T142333Z
LAST-MODIFIED:20241014T142333Z
UID:14919-1760778000-1760797800@www.malforum-muenchen.de
SUMMARY:Landschaft
DESCRIPTION:
URL:https://www.malforum-muenchen.de/kurstermin/landschaft-27/
LOCATION:Malforum München\, Lindwurmstraße 68\, München\, Bayern\, 80337\, Deutschland
CATEGORIES:Malkurse
END:VEVENT
BEGIN:VEVENT
DTSTART;TZID=Europe/Berlin:20250927T090000
DTEND;TZID=Europe/Berlin:20250927T143000
DTSTAMP:20260422T085343
CREATED:20241014T142331Z
LAST-MODIFIED:20241014T142331Z
UID:14918-1758963600-1758983400@www.malforum-muenchen.de
SUMMARY:Landschaft
DESCRIPTION:
URL:https://www.malforum-muenchen.de/kurstermin/landschaft-26/
LOCATION:Malforum München\, Lindwurmstraße 68\, München\, Bayern\, 80337\, Deutschland
CATEGORIES:Malkurse
END:VEVENT
BEGIN:VEVENT
DTSTART;TZID=Europe/Berlin:20250913T090000
DTEND;TZID=Europe/Berlin:20250913T143000
DTSTAMP:20260422T085343
CREATED:20241014T142326Z
LAST-MODIFIED:20241014T142326Z
UID:14917-1757754000-1757773800@www.malforum-muenchen.de
SUMMARY:Landschaft
DESCRIPTION:
URL:https://www.malforum-muenchen.de/kurstermin/landschaft-25/
LOCATION:Malforum München\, Lindwurmstraße 68\, München\, Bayern\, 80337\, Deutschland
CATEGORIES:Malkurse
END:VEVENT
BEGIN:VEVENT
DTSTART;TZID=Europe/Berlin:20250830T090000
DTEND;TZID=Europe/Berlin:20250830T143000
DTSTAMP:20260422T085343
CREATED:20241014T142120Z
LAST-MODIFIED:20241014T142120Z
UID:14914-1756544400-1756564200@www.malforum-muenchen.de
SUMMARY:Meeresmotiv
DESCRIPTION:
URL:https://www.malforum-muenchen.de/kurstermin/meeresmotiv-6/
LOCATION:Malforum München\, Lindwurmstraße 68\, München\, Bayern\, 80337\, Deutschland
CATEGORIES:Malkurse
END:VEVENT
BEGIN:VEVENT
DTSTART;TZID=Europe/Berlin:20250823T090000
DTEND;TZID=Europe/Berlin:20250823T143000
DTSTAMP:20260422T085343
CREATED:20241014T142043Z
LAST-MODIFIED:20241014T142043Z
UID:14911-1755939600-1755959400@www.malforum-muenchen.de
SUMMARY:Landschaft
DESCRIPTION:
URL:https://www.malforum-muenchen.de/kurstermin/landschaft-24/
LOCATION:Malforum München\, Lindwurmstraße 68\, München\, Bayern\, 80337\, Deutschland
CATEGORIES:Malkurse
END:VEVENT
BEGIN:VEVENT
DTSTART;TZID=Europe/Berlin:20250726T090000
DTEND;TZID=Europe/Berlin:20250726T143000
DTSTAMP:20260422T085343
CREATED:20241014T142009Z
LAST-MODIFIED:20241014T142009Z
UID:14908-1753520400-1753540200@www.malforum-muenchen.de
SUMMARY:Waldweg
DESCRIPTION:
URL:https://www.malforum-muenchen.de/kurstermin/waldweg-2/
LOCATION:Malforum München\, Lindwurmstraße 68\, München\, Bayern\, 80337\, Deutschland
CATEGORIES:Malkurse
END:VEVENT
BEGIN:VEVENT
DTSTART;TZID=Europe/Berlin:20250705T090000
DTEND;TZID=Europe/Berlin:20250705T143000
DTSTAMP:20260422T085343
CREATED:20241014T141908Z
LAST-MODIFIED:20241014T141908Z
UID:14905-1751706000-1751725800@www.malforum-muenchen.de
SUMMARY:Landschaft
DESCRIPTION:
URL:https://www.malforum-muenchen.de/kurstermin/landschaft-23/
LOCATION:Malforum München\, Lindwurmstraße 68\, München\, Bayern\, 80337\, Deutschland
CATEGORIES:Malkurse
END:VEVENT
BEGIN:VEVENT
DTSTART;TZID=Europe/Berlin:20250621T090000
DTEND;TZID=Europe/Berlin:20250621T143000
DTSTAMP:20260422T085343
CREATED:20241014T141813Z
LAST-MODIFIED:20241014T141842Z
UID:14899-1750496400-1750516200@www.malforum-muenchen.de
SUMMARY:Meeresmotiv
DESCRIPTION:
URL:https://www.malforum-muenchen.de/kurstermin/meeresmotiv-5/
LOCATION:Malforum München\, Lindwurmstraße 68\, München\, Bayern\, 80337\, Deutschland
CATEGORIES:Malkurse
END:VEVENT
BEGIN:VEVENT
DTSTART;TZID=Europe/Berlin:20250524T090000
DTEND;TZID=Europe/Berlin:20250524T143000
DTSTAMP:20260422T085343
CREATED:20241014T141732Z
LAST-MODIFIED:20241014T141732Z
UID:14894-1748077200-1748097000@www.malforum-muenchen.de
SUMMARY:Landschaft
DESCRIPTION:
URL:https://www.malforum-muenchen.de/kurstermin/landschaft-21/
LOCATION:Malforum München\, Lindwurmstraße 68\, München\, Bayern\, 80337\, Deutschland
CATEGORIES:Malkurse
END:VEVENT
BEGIN:VEVENT
DTSTART;TZID=Europe/Berlin:20250517T090000
DTEND;TZID=Europe/Berlin:20250517T143000
DTSTAMP:20260422T085343
CREATED:20241014T141734Z
LAST-MODIFIED:20241121T130408Z
UID:14893-1747472400-1747492200@www.malforum-muenchen.de
SUMMARY:Waldsee
DESCRIPTION:
URL:https://www.malforum-muenchen.de/kurstermin/waldsee-2/
LOCATION:Malforum München\, Lindwurmstraße 68\, München\, Bayern\, 80337\, Deutschland
CATEGORIES:Malkurse
END:VEVENT
BEGIN:VEVENT
DTSTART;TZID=Europe/Berlin:20250426T090000
DTEND;TZID=Europe/Berlin:20250426T143000
DTSTAMP:20260422T085343
CREATED:20241014T141625Z
LAST-MODIFIED:20241121T130343Z
UID:14890-1745658000-1745677800@www.malforum-muenchen.de
SUMMARY:Landschaft
DESCRIPTION:
URL:https://www.malforum-muenchen.de/kurstermin/landschaft-neu/
LOCATION:Malforum München\, Lindwurmstraße 68\, München\, Bayern\, 80337\, Deutschland
CATEGORIES:Malkurse
END:VEVENT
END:VCALENDAR